BEGIN:VCALENDAR
VERSION:2.0
PRODID:-//Office for Victims of Crime//NONSGML Event Calendar//EN
BEGIN:VEVENT
UID:bf7070b2-8054-415d-8f5a-7450a8439148
DTSTART;VALUE=DATE:20230123
SEQUENCE:0
TRANSP:OPAQUE
DTEND;VALUE=DATE:20230126
LOCATION:https://www.ovc.ojp.gov/events/beyond-basics-advancing-human-traff
 icking-investigations-and-prosecutions
SUMMARY:Beyond the Basics: Advancing Human Trafficking Investigations and P
 rosecutions
CLASS:PUBLIC
DESCRIPTION:Learn more about this event: https://www.ovc.ojp.gov/events/bey
 ond-basics-advancing-human-trafficking-investigations-and-prosecutions
X-MICROSOFT-CDO-ALLDAYEVENT:TRUE
DTSTAMP:20260422T233132Z
END:VEVENT
END:VCALENDAR