BEGIN:VCALENDAR
VERSION:2.0
PRODID:-//Office for Victims of Crime//NONSGML Event Calendar//EN
BEGIN:VEVENT
UID:26a26fdc-f06b-471d-bb5c-b1bd4aec246d
DTSTART;TZID=UTC:20230308T180000
SEQUENCE:0
TRANSP:OPAQUE
DTEND;TZID=UTC:20230308T190000
LOCATION:https://www.ovc.ojp.gov/events/national-census-victim-service-prov
 iders-data-resources-and-implications-practitioners
SUMMARY:National Census of Victim Service Providers: Data\, Resources\, and
  Implications for Practitioners
CLASS:PUBLIC
DESCRIPTION:Learn more about this event: https://www.ovc.ojp.gov/events/nat
 ional-census-victim-service-providers-data-resources-and-implications-prac
 titioners
DTSTAMP:20260422T215100Z
END:VEVENT
END:VCALENDAR