BEGIN:VCALENDAR
VERSION:2.0
PRODID:-//Office for Victims of Crime//NONSGML Event Calendar//EN
BEGIN:VEVENT
UID:6d3236f7-3e9d-4f05-b2b4-9776c8dbbc98
DTSTART;TZID=UTC:20231018T170000
SEQUENCE:0
TRANSP:OPAQUE
DTEND;TZID=UTC:20231018T180000
LOCATION:https://www.ovc.ojp.gov/events/introduction-ovc-victim-services-tr
 aining-and-technical-assistance-and-ovc-technical
SUMMARY:Introduction to OVC Victim Services Training and Technical Assistan
 ce and OVC Technical Assistance Collective
CLASS:PUBLIC
DESCRIPTION:Learn more about this event: https://www.ovc.ojp.gov/events/int
 roduction-ovc-victim-services-training-and-technical-assistance-and-ovc-te
 chnical
DTSTAMP:20260422T220449Z
END:VEVENT
END:VCALENDAR