BEGIN:VCALENDAR
VERSION:2.0
PRODID:-//Office for Victims of Crime//NONSGML Event Calendar//EN
BEGIN:VEVENT
UID:eed7ed4f-fc02-4cdf-afa7-9ce91709886a
DTSTART;TZID=UTC:20231206T150000
SEQUENCE:0
TRANSP:OPAQUE
DTEND;TZID=UTC:20231206T220000
LOCATION:https://www.ovc.ojp.gov/events/responding-sextortion-related-offen
 ses-against-children-1
SUMMARY:Responding to Sextortion Related Offenses Against Children
CLASS:PUBLIC
DESCRIPTION:Learn more about this event: https://www.ovc.ojp.gov/events/res
 ponding-sextortion-related-offenses-against-children-1
DTSTAMP:20260422T221102Z
END:VEVENT
END:VCALENDAR