BEGIN:VCALENDAR
VERSION:2.0
PRODID:-//Office for Victims of Crime//NONSGML Event Calendar//EN
BEGIN:VEVENT
UID:850cea4a-bb1f-4d7f-975e-99cd781bb1f4
DTSTART;TZID=UTC:20240325T123000
SEQUENCE:0
TRANSP:OPAQUE
DTEND;TZID=UTC:20240328T203000
LOCATION:https://www.ovc.ojp.gov/events/multidisciplinary-team-response-chi
 ld-sex-trafficking-13
SUMMARY:Multidisciplinary Team Response to Child Sex Trafficking
CLASS:PUBLIC
DESCRIPTION:Learn more about this event: https://www.ovc.ojp.gov/events/mul
 tidisciplinary-team-response-child-sex-trafficking-13
DTSTAMP:20260422T220359Z
END:VEVENT
END:VCALENDAR