BEGIN:VCALENDAR
VERSION:2.0
PRODID:-//Office for Victims of Crime//NONSGML Event Calendar//EN
BEGIN:VEVENT
UID:cded5736-6b7e-48fa-8f96-0b57b47bf117
DTSTART;TZID=UTC:20241017T170000
SEQUENCE:0
TRANSP:OPAQUE
DTEND;TZID=UTC:20241017T181500
LOCATION:https://www.ovc.ojp.gov/events/using-research-enhance-incorporatio
 n-victim-services
SUMMARY:Using Research to Enhance Incorporation of Victim Services
CLASS:PUBLIC
DESCRIPTION:Learn more about this event: https://www.ovc.ojp.gov/events/usi
 ng-research-enhance-incorporation-victim-services
DTSTAMP:20260422T220358Z
END:VEVENT
END:VCALENDAR