BEGIN:VCALENDAR
VERSION:2.0
PRODID:-//Office for Victims of Crime//NONSGML Event Calendar//EN
BEGIN:VEVENT
UID:400ffa1c-d604-4599-9702-d63d7cd29ee7
DTSTART;TZID=UTC:20240215T180000
SEQUENCE:0
TRANSP:OPAQUE
DTEND;TZID=UTC:20240215T191500
LOCATION:https://www.ovc.ojp.gov/events/teen-dating-violence
SUMMARY:Teen Dating Violence
CLASS:PUBLIC
DESCRIPTION:Learn more about this event: https://www.ovc.ojp.gov/events/tee
 n-dating-violence
DTSTAMP:20260422T220449Z
END:VEVENT
END:VCALENDAR