BEGIN:VCALENDAR
VERSION:2.0
PRODID:-//Office for Victims of Crime//NONSGML Event Calendar//EN
BEGIN:VEVENT
UID:e3a512a1-1f02-4e8e-9fbf-1b44fe73ecb9
DTSTART;TZID=UTC:20240305T200000
SEQUENCE:0
TRANSP:OPAQUE
DTEND;TZID=UTC:20240305T210000
LOCATION:https://www.ovc.ojp.gov/events/ovc-fy-2024-integrated-services-min
 or-victims-human-trafficking-pre-application-webinar
SUMMARY:OVC FY 2024 Integrated Services for Minor Victims of Human Traffick
 ing Pre-Application Webinar
CLASS:PUBLIC
DESCRIPTION:Learn more about this event: https://www.ovc.ojp.gov/events/ovc
 -fy-2024-integrated-services-minor-victims-human-trafficking-pre-applicati
 on-webinar
DTSTAMP:20260422T214953Z
END:VEVENT
END:VCALENDAR