BEGIN:VCALENDAR
VERSION:2.0
PRODID:-//Office for Victims of Crime//NONSGML Event Calendar//EN
BEGIN:VEVENT
UID:98f1dec1-6de6-4391-9814-e121b5c1a43f
DTSTART;TZID=UTC:20240508T190000
SEQUENCE:0
TRANSP:OPAQUE
DTEND;TZID=UTC:20240508T200000
LOCATION:https://www.ovc.ojp.gov/events/ovc-fy24-pilot-program-community-ba
 sed-organizations-underserved-communities-build-capacity
SUMMARY:OVC FY24 Pilot Program for Community Based Organizations in Underse
 rved Communities to Build Capacity and Serve Adolescent and Youth Victims 
 of Trafficking Pre-Application Webinar
CLASS:PUBLIC
DESCRIPTION:Learn more about this event: https://www.ovc.ojp.gov/events/ovc
 -fy24-pilot-program-community-based-organizations-underserved-communities-
 build-capacity
DTSTAMP:20260422T214906Z
END:VEVENT
END:VCALENDAR