BEGIN:VCALENDAR
VERSION:2.0
PRODID:-//Office for Victims of Crime//NONSGML Event Calendar//EN
BEGIN:VEVENT
UID:cb25943d-f5e5-405b-adb3-9190a82ce842
DTSTART;TZID=UTC:20240611T170000
SEQUENCE:0
TRANSP:OPAQUE
DTEND;TZID=UTC:20240611T180000
LOCATION:https://www.ovc.ojp.gov/events/ovc-fy24-emergency-transitional-pet
 -shelter-housing-assistance-webinar
SUMMARY:OVC FY24 Emergency and Transitional Pet Shelter and Housing Assista
 nce Grant Program Pre-Application Webinar
CLASS:PUBLIC
DESCRIPTION:Learn more about this event: https://www.ovc.ojp.gov/events/ovc
 -fy24-emergency-transitional-pet-shelter-housing-assistance-webinar
DTSTAMP:20260422T222047Z
END:VEVENT
END:VCALENDAR