BEGIN:VCALENDAR
VERSION:2.0
PRODID:-//Office for Victims of Crime//NONSGML Event Calendar//EN
BEGIN:VEVENT
UID:e324f300-b823-4f0d-b4bc-df9b8ed6b4ef
DTSTART;TZID=UTC:20240618T190000
SEQUENCE:0
TRANSP:OPAQUE
DTEND;TZID=UTC:20240618T200000
LOCATION:https://www.ovc.ojp.gov/events/ovc-fy24-meeting-basic-needs-crime-
 victims-underserved-communities-pre-application-webinar-1
SUMMARY:OVC FY24 Meeting the Basic Needs of Crime Victims in Underserved Co
 mmunities Pre-Application Webinar 1
CLASS:PUBLIC
DESCRIPTION:Learn more about this event: https://www.ovc.ojp.gov/events/ovc
 -fy24-meeting-basic-needs-crime-victims-underserved-communities-pre-applic
 ation-webinar-1
DTSTAMP:20260422T215826Z
END:VEVENT
END:VCALENDAR