BEGIN:VCALENDAR
VERSION:2.0
PRODID:-//Office for Victims of Crime//NONSGML Event Calendar//EN
BEGIN:VEVENT
UID:9801f4d5-e259-442c-8189-73ec889ad10a
DTSTART;TZID=UTC:20250828T170000
SEQUENCE:0
TRANSP:OPAQUE
DTEND;TZID=UTC:20250828T181500
LOCATION:https://www.ovc.ojp.gov/events/victim-services-unit-response-victi
 ms-and-co-victims-violent-crime
SUMMARY:Victim Services Unit Response to Victims and Co-Victims of Violent 
 Crime
CLASS:PUBLIC
DESCRIPTION:Learn more about this event: https://www.ovc.ojp.gov/events/vic
 tim-services-unit-response-victims-and-co-victims-violent-crime
DTSTAMP:20260422T214935Z
END:VEVENT
END:VCALENDAR