BEGIN:VCALENDAR
VERSION:2.0
PRODID:-//Office for Victims of Crime//NONSGML Event Calendar//EN
BEGIN:VEVENT
UID:101b3cfb-cfa6-4e7f-9d01-82938a35f343
DTSTART;TZID=UTC:20250312T120000
SEQUENCE:0
TRANSP:OPAQUE
DTEND;TZID=UTC:20250313T220000
LOCATION:https://www.ovc.ojp.gov/events/anti-trafficking-alliance-conferenc
 e
SUMMARY:Anti-Trafficking Alliance Conference
CLASS:PUBLIC
DESCRIPTION:Learn more about this event: https://www.ovc.ojp.gov/events/ant
 i-trafficking-alliance-conference
DTSTAMP:20260422T233110Z
END:VEVENT
END:VCALENDAR