BEGIN:VCALENDAR
VERSION:2.0
PRODID:-//Office for Victims of Crime//NONSGML Event Calendar//EN
BEGIN:VEVENT
UID:c1f6fcb6-3dbf-4072-b4d8-76a780b5c309
DTSTART;TZID=UTC:20250428T140000
SEQUENCE:0
TRANSP:OPAQUE
DTEND;TZID=UTC:20250430T230000
LOCATION:https://www.ovc.ojp.gov/events/greater-rockies-immersive-training-
 grit-conference
SUMMARY:Greater Rockies Immersive Training (GRIT) Conference 
CLASS:PUBLIC
DESCRIPTION:Learn more about this event: https://www.ovc.ojp.gov/events/gre
 ater-rockies-immersive-training-grit-conference
DTSTAMP:20260422T220504Z
END:VEVENT
END:VCALENDAR