BEGIN:VCALENDAR
VERSION:2.0
PRODID:-//Office for Victims of Crime//NONSGML Event Calendar//EN
BEGIN:VEVENT
UID:40c97db9-f21a-454a-be6b-b6212ac91052
DTSTART;TZID=UTC:20250207T190000
SEQUENCE:0
TRANSP:OPAQUE
DTEND;TZID=UTC:20250207T200000
LOCATION:https://www.ovc.ojp.gov/events/center-victim-research-data-coachin
 g-series-finding-data-community-demographics
SUMMARY:Center for Victim Research Data Coaching Series: Finding Data on Co
 mmunity Demographics
CLASS:PUBLIC
DESCRIPTION:Learn more about this event: https://www.ovc.ojp.gov/events/cen
 ter-victim-research-data-coaching-series-finding-data-community-demographi
 cs
DTSTAMP:20260422T220500Z
END:VEVENT
END:VCALENDAR