BEGIN:VCALENDAR
VERSION:2.0
PRODID:-//Office for Victims of Crime//NONSGML Event Calendar//EN
BEGIN:VEVENT
UID:cd029a7d-6968-4c67-94f5-366d45ae7a07
DTSTART;TZID=UTC:20250214T190000
SEQUENCE:0
TRANSP:OPAQUE
DTEND;TZID=UTC:20250214T200000
LOCATION:https://www.ovc.ojp.gov/events/center-victim-research-data-coachin
 g-series-finding-data-reported-state-and-local-crime
SUMMARY:Center for Victim Research Data Coaching Series: Finding Data on Re
 ported State and Local Crime
CLASS:PUBLIC
DESCRIPTION:Learn more about this event: https://www.ovc.ojp.gov/events/cen
 ter-victim-research-data-coaching-series-finding-data-reported-state-and-l
 ocal-crime
DTSTAMP:20260422T220450Z
END:VEVENT
END:VCALENDAR