BEGIN:VCALENDAR
VERSION:2.0
PRODID:-//Office for Victims of Crime//NONSGML Event Calendar//EN
BEGIN:VEVENT
UID:700d3941-c0d5-4833-92cd-4bc0bea0eeba
DTSTART;TZID=UTC:20250228T190000
SEQUENCE:0
TRANSP:OPAQUE
DTEND;TZID=UTC:20250228T200000
LOCATION:https://www.ovc.ojp.gov/events/center-victim-research-data-coachin
 g-series-finding-data-campus-and-tribal-communities
SUMMARY:Center for Victim Research Data Coaching Series: Finding Data on Ca
 mpus and Tribal Communities
CLASS:PUBLIC
DESCRIPTION:Learn more about this event: https://www.ovc.ojp.gov/events/cen
 ter-victim-research-data-coaching-series-finding-data-campus-and-tribal-co
 mmunities
DTSTAMP:20260422T220344Z
END:VEVENT
END:VCALENDAR