BEGIN:VCALENDAR
VERSION:2.0
PRODID:-//Office for Victims of Crime//NONSGML Event Calendar//EN
BEGIN:VEVENT
UID:0f3c4678-5782-4852-a475-74d8abc27f38
DTSTART;TZID=UTC:20251204T200000
SEQUENCE:0
TRANSP:OPAQUE
DTEND;TZID=UTC:20251204T211500
LOCATION:https://www.ovc.ojp.gov/events/victim-safety-planning-and-mobile-d
 evices
SUMMARY:Victim Safety Planning and Mobile Devices
CLASS:PUBLIC
DESCRIPTION:Learn more about this event: https://www.ovc.ojp.gov/events/vic
 tim-safety-planning-and-mobile-devices
DTSTAMP:20260422T215735Z
END:VEVENT
END:VCALENDAR