BEGIN:VCALENDAR
VERSION:2.0
PRODID:-//Office for Victims of Crime//NONSGML Event Calendar//EN
BEGIN:VEVENT
UID:59261bad-6916-4d15-b5c7-08627be21c38
DTSTART;TZID=UTC:20250805T170000
SEQUENCE:0
TRANSP:OPAQUE
DTEND;TZID=UTC:20250805T181500
LOCATION:https://www.ovc.ojp.gov/events/enhancing-relationships-between-law
 -enforcement-and-victim-services
SUMMARY:Enhancing Relationships Between Law Enforcement and Victim Services
CLASS:PUBLIC
DESCRIPTION:Learn more about this event: https://www.ovc.ojp.gov/events/enh
 ancing-relationships-between-law-enforcement-and-victim-services
DTSTAMP:20260422T215750Z
END:VEVENT
END:VCALENDAR