BEGIN:VCALENDAR
VERSION:2.0
PRODID:-//Office for Victims of Crime//NONSGML Event Calendar//EN
BEGIN:VEVENT
UID:df468413-573c-4a8f-ac57-47c451c0e136
DTSTART;TZID=UTC:20250228T170000
SEQUENCE:0
TRANSP:OPAQUE
DTEND;TZID=UTC:20250228T183000
LOCATION:https://www.ovc.ojp.gov/events/teen-dating-violence-lunch-and-lear
 ning-i-dated-psycho-vadoc-speakers-bureau-member-natalie
SUMMARY:Teen Dating Violence Lunch and Learning: \"I Dated A Psycho\"  with
  VADOC Speakers Bureau Member Natalie Purdie
CLASS:PUBLIC
DESCRIPTION:Learn more about this event: https://www.ovc.ojp.gov/events/tee
 n-dating-violence-lunch-and-learning-i-dated-psycho-vadoc-speakers-bureau-
 member-natalie
DTSTAMP:20260423T010748Z
END:VEVENT
END:VCALENDAR