BEGIN:VCALENDAR
VERSION:2.0
PRODID:-//Office for Victims of Crime//NONSGML Event Calendar//EN
BEGIN:VEVENT
UID:ddcb988e-1480-4908-a4f9-b3917eb5a34a
DTSTART;VALUE=DATE:20250406
SEQUENCE:0
TRANSP:OPAQUE
DTEND;VALUE=DATE:20250407
LOCATION:https://www.ovc.ojp.gov/events/memorial-service-crime-victims-and-
 their-families-eastern-region-maryland-0
SUMMARY:Memorial Service for Crime Victims and Their Families: Eastern Regi
 on of Maryland
CLASS:PUBLIC
DESCRIPTION:Learn more about this event: https://www.ovc.ojp.gov/events/mem
 orial-service-crime-victims-and-their-families-eastern-region-maryland-0
X-MICROSOFT-CDO-ALLDAYEVENT:TRUE
DTSTAMP:20260422T220449Z
END:VEVENT
END:VCALENDAR