BEGIN:VCALENDAR
VERSION:2.0
PRODID:-//Office for Victims of Crime//NONSGML Event Calendar//EN
BEGIN:VEVENT
UID:108a20f6-9cbe-4911-81be-32f653700614
DTSTART;TZID=UTC:20250406T183000
SEQUENCE:0
TRANSP:OPAQUE
DTEND;TZID=UTC:20250406T203000
LOCATION:https://www.ovc.ojp.gov/events/41st-justice-homicide-victims-memor
 ial
SUMMARY:41st Justice for Homicide Victims Memorial
CLASS:PUBLIC
DESCRIPTION:Learn more about this event: https://www.ovc.ojp.gov/events/41s
 t-justice-homicide-victims-memorial
DTSTAMP:20260422T220400Z
END:VEVENT
END:VCALENDAR