BEGIN:VCALENDAR
VERSION:2.0
PRODID:-//Office for Victims of Crime//NONSGML Event Calendar//EN
BEGIN:VEVENT
UID:86786b05-2589-462e-89d8-a03480a2671b
DTSTART;VALUE=DATE:20250411
SEQUENCE:0
TRANSP:OPAQUE
DTEND;VALUE=DATE:20250412
LOCATION:https://www.ovc.ojp.gov/events/2025-national-crime-victims-rights-
 week-state-vigil
SUMMARY:2025 National Crime Victims' Rights Week State Vigil
CLASS:PUBLIC
DESCRIPTION:Learn more about this event: https://www.ovc.ojp.gov/events/202
 5-national-crime-victims-rights-week-state-vigil
X-MICROSOFT-CDO-ALLDAYEVENT:TRUE
DTSTAMP:20260422T220502Z
END:VEVENT
END:VCALENDAR