BEGIN:VCALENDAR
VERSION:2.0
PRODID:-//Office for Victims of Crime//NONSGML Event Calendar//EN
BEGIN:VEVENT
UID:0560198c-afad-42fc-86af-8a3478e1e584
DTSTART;TZID=UTC:20250408T150000
SEQUENCE:0
TRANSP:OPAQUE
DTEND;TZID=UTC:20250408T170000
LOCATION:https://www.ovc.ojp.gov/events/23rd-annual-crime-victim-luncheon
SUMMARY:23rd Annual Crime Victim Luncheon
CLASS:PUBLIC
DESCRIPTION:Learn more about this event: https://www.ovc.ojp.gov/events/23r
 d-annual-crime-victim-luncheon
DTSTAMP:20260422T220357Z
END:VEVENT
END:VCALENDAR