BEGIN:VCALENDAR
VERSION:2.0
PRODID:-//Office for Victims of Crime//NONSGML Event Calendar//EN
BEGIN:VEVENT
UID:e0349a74-2090-4e8c-9436-123a1eeaa84e
DTSTART;TZID=UTC:20250607T110000
SEQUENCE:0
TRANSP:OPAQUE
DTEND;TZID=UTC:20250607T170000
LOCATION:https://www.ovc.ojp.gov/events/tri-county-orange-walk
SUMMARY:Tri-County Orange Walk
CLASS:PUBLIC
DESCRIPTION:Learn more about this event: https://www.ovc.ojp.gov/events/tri
 -county-orange-walk
DTSTAMP:20260422T221101Z
END:VEVENT
END:VCALENDAR