BEGIN:VCALENDAR
VERSION:2.0
PRODID:-//Office for Victims of Crime//NONSGML Event Calendar//EN
BEGIN:VEVENT
UID:19727d4b-323d-4ba3-ad39-272b969dbc74
DTSTART;TZID=UTC:20251001T130000
SEQUENCE:0
TRANSP:OPAQUE
DTEND;TZID=UTC:20251001T210000
LOCATION:https://www.ovc.ojp.gov/events/shift-wellness-psycho-educational-p
 rogram-15
SUMMARY:SHIFT Wellness Psycho Educational Program
CLASS:PUBLIC
DESCRIPTION:Learn more about this event: https://www.ovc.ojp.gov/events/shi
 ft-wellness-psycho-educational-program-15
DTSTAMP:20260422T215624Z
END:VEVENT
END:VCALENDAR