BEGIN:VCALENDAR
VERSION:2.0
PRODID:-//Office for Victims of Crime//NONSGML Event Calendar//EN
BEGIN:VEVENT
UID:c5e2db58-f54e-4057-9c32-7dc7676394ec
DTSTART;TZID=UTC:20251021T143000
SEQUENCE:0
TRANSP:OPAQUE
DTEND;TZID=UTC:20251021T230000
LOCATION:https://www.ovc.ojp.gov/events/shift-wellness-psycho-educational-p
 rogram-16
SUMMARY:SHIFT Wellness Psycho Educational Program
CLASS:PUBLIC
DESCRIPTION:Learn more about this event: https://www.ovc.ojp.gov/events/shi
 ft-wellness-psycho-educational-program-16
DTSTAMP:20260422T215750Z
END:VEVENT
END:VCALENDAR