BEGIN:VCALENDAR
VERSION:2.0
PRODID:-//Office for Victims of Crime//NONSGML Event Calendar//EN
BEGIN:VEVENT
UID:d1d8a00a-2006-4f70-9e04-5c775e55ec2b
DTSTART;TZID=UTC:20250717T190000
SEQUENCE:0
TRANSP:OPAQUE
DTEND;TZID=UTC:20250717T200000
LOCATION:https://www.ovc.ojp.gov/events/talking-circle-unpacking-labor-traf
 ficking-tribal-communities
SUMMARY:Talking Circle: Unpacking Labor Trafficking in Tribal Communities
CLASS:PUBLIC
DESCRIPTION:Learn more about this event: https://www.ovc.ojp.gov/events/tal
 king-circle-unpacking-labor-trafficking-tribal-communities
DTSTAMP:20260422T220358Z
END:VEVENT
END:VCALENDAR