BEGIN:VCALENDAR
VERSION:2.0
PRODID:-//Office for Victims of Crime//NONSGML Event Calendar//EN
BEGIN:VEVENT
UID:149f9b58-8b50-4a18-b156-5b395a58c01c
DTSTART;TZID=UTC:20250721T153000
SEQUENCE:0
TRANSP:OPAQUE
DTEND;TZID=UTC:20250807T170000
LOCATION:https://www.ovc.ojp.gov/events/national-victim-assistance-academy-
 building-resiliency-victim-service-organizations-0
SUMMARY:National Victim Assistance Academy: Building Resiliency in Victim S
 ervice Organizations
CLASS:PUBLIC
DESCRIPTION:Learn more about this event: https://www.ovc.ojp.gov/events/nat
 ional-victim-assistance-academy-building-resiliency-victim-service-organiz
 ations-0
DTSTAMP:20260422T215751Z
END:VEVENT
END:VCALENDAR