BEGIN:VCALENDAR
VERSION:2.0
PRODID:-//Office for Victims of Crime//NONSGML Event Calendar//EN
BEGIN:VEVENT
UID:c09de55f-6ac2-49c8-b3ab-dc54dc64c4ae
DTSTART;TZID=UTC:20250929T140000
SEQUENCE:0
TRANSP:OPAQUE
DTEND;TZID=UTC:20251001T193000
LOCATION:https://www.ovc.ojp.gov/events/37th-annual-colorado-organization-v
 ictim-assistance-cova-conference
SUMMARY:37th Annual Colorado Organization for Victim Assistance (COVA) Conf
 erence
CLASS:PUBLIC
DESCRIPTION:Learn more about this event: https://www.ovc.ojp.gov/events/37t
 h-annual-colorado-organization-victim-assistance-cova-conference
DTSTAMP:20260422T215049Z
END:VEVENT
END:VCALENDAR