BEGIN:VCALENDAR
VERSION:2.0
PRODID:-//Office for Victims of Crime//NONSGML Event Calendar//EN
BEGIN:VEVENT
UID:ad564c92-7476-4942-94a3-1148acbab4e5
DTSTART;TZID=UTC:20250925T190000
SEQUENCE:0
TRANSP:OPAQUE
DTEND;TZID=UTC:20250925T203000
LOCATION:https://www.ovc.ojp.gov/events/15th-virtual-national-town-hall-imp
 act-mass-violence-incidents-family-survivors-homicide
SUMMARY:15th Virtual National Town Hall: The Impact of Mass Violence Incide
 nts on Family Survivors of Homicide Victims & Resources to Assist Them
CLASS:PUBLIC
DESCRIPTION:Learn more about this event: https://www.ovc.ojp.gov/events/15t
 h-virtual-national-town-hall-impact-mass-violence-incidents-family-survivo
 rs-homicide
DTSTAMP:20260422T215741Z
END:VEVENT
END:VCALENDAR