BEGIN:VCALENDAR
VERSION:2.0
PRODID:-//Office for Victims of Crime//NONSGML Event Calendar//EN
BEGIN:VEVENT
UID:32fd3518-f410-423a-a337-6c773a993977
DTSTART;TZID=UTC:20250930T180000
SEQUENCE:0
TRANSP:OPAQUE
DTEND;TZID=UTC:20250930T193000
LOCATION:https://www.ovc.ojp.gov/events/victim-assistance-response-mass-vio
 lence-webinar-series-48-hours-and-beyond
SUMMARY:Victim Assistance Response to Mass Violence Webinar Series: 48 Hour
 s and Beyond
CLASS:PUBLIC
DESCRIPTION:Learn more about this event: https://www.ovc.ojp.gov/events/vic
 tim-assistance-response-mass-violence-webinar-series-48-hours-and-beyond
DTSTAMP:20260422T220342Z
END:VEVENT
END:VCALENDAR