BEGIN:VCALENDAR
VERSION:2.0
PRODID:-//Office for Victims of Crime//NONSGML Event Calendar//EN
BEGIN:VEVENT
UID:6a53e9a3-8005-4945-ba62-4367ad9945a2
DTSTART;TZID=UTC:20251016T193000
SEQUENCE:0
TRANSP:OPAQUE
DTEND;TZID=UTC:20251016T203000
LOCATION:https://www.ovc.ojp.gov/events/continued-presence-webinar-law-enfo
 rcement-5
SUMMARY:Continued Presence Webinar for Law Enforcement
CLASS:PUBLIC
DESCRIPTION:Learn more about this event: https://www.ovc.ojp.gov/events/con
 tinued-presence-webinar-law-enforcement-5
DTSTAMP:20260422T215751Z
END:VEVENT
END:VCALENDAR