BEGIN:VCALENDAR
VERSION:2.0
PRODID:-//Office for Victims of Crime//NONSGML Event Calendar//EN
BEGIN:VEVENT
UID:29e9812d-2962-4216-b128-ed37a305258a
DTSTART;TZID=UTC:20260410T213000
SEQUENCE:0
TRANSP:OPAQUE
DTEND;TZID=UTC:20260411T003000
LOCATION:https://www.ovc.ojp.gov/events/hurt-hope-healing-kingsessing-docum
 entary-viewing
SUMMARY:From Hurt to Hope: Healing in Kingsessing Documentary Viewing
CLASS:PUBLIC
DESCRIPTION:Learn more about this event: https://www.ovc.ojp.gov/events/hur
 t-hope-healing-kingsessing-documentary-viewing
DTSTAMP:20260422T221101Z
END:VEVENT
END:VCALENDAR