BEGIN:VCALENDAR
VERSION:2.0
PRODID:-//Office for Victims of Crime//NONSGML Event Calendar//EN
BEGIN:VEVENT
UID:38a1618a-1a3b-449b-ac61-70be62f1dec5
DTSTART;TZID=UTC:20260312T170000
SEQUENCE:0
TRANSP:OPAQUE
DTEND;TZID=UTC:20260312T181500
LOCATION:https://www.ovc.ojp.gov/events/can-we-really-send-social-worker-in
 tegrating-community-based-crisis-teams
SUMMARY:Can We Really Send a Social Worker? Integrating Community-Based Cri
 sis Teams
CLASS:PUBLIC
DESCRIPTION:Learn more about this event: https://www.ovc.ojp.gov/events/can
 -we-really-send-social-worker-integrating-community-based-crisis-teams
DTSTAMP:20260422T222116Z
END:VEVENT
END:VCALENDAR