BEGIN:VCALENDAR
VERSION:2.0
PRODID:-//Office for Victims of Crime//NONSGML Event Calendar//EN
BEGIN:VEVENT
UID:a34e01a5-cfeb-429f-b3b0-e961f82083d9
DTSTART;TZID=UTC:20260312T190000
SEQUENCE:0
TRANSP:OPAQUE
DTEND;TZID=UTC:20260312T201500
LOCATION:https://www.ovc.ojp.gov/events/power-trip-when-authority-becomes-e
 xploitation
SUMMARY:Power Trip: When Authority Becomes Exploitation
CLASS:PUBLIC
DESCRIPTION:Learn more about this event: https://www.ovc.ojp.gov/events/pow
 er-trip-when-authority-becomes-exploitation
DTSTAMP:20260410T040846Z
END:VEVENT
END:VCALENDAR