BEGIN:VCALENDAR
VERSION:2.0
PRODID:-//Office for Victims of Crime//NONSGML Event Calendar//EN
BEGIN:VEVENT
UID:fe601bc1-927e-49eb-924b-bc447873af8e
DTSTART;TZID=UTC:20260423T170000
SEQUENCE:0
TRANSP:OPAQUE
DTEND;TZID=UTC:20260423T181500
LOCATION:https://www.ovc.ojp.gov/events/addressing-gender-based-violence-co
 llege-campuses
SUMMARY:Addressing Gender-Based Violence on College Campuses
CLASS:PUBLIC
DESCRIPTION:Learn more about this event: https://www.ovc.ojp.gov/events/add
 ressing-gender-based-violence-college-campuses
DTSTAMP:20260412T080404Z
END:VEVENT
END:VCALENDAR