BEGIN:VCALENDAR
VERSION:2.0
PRODID:-//Office for Victims of Crime//NONSGML Event Calendar//EN
BEGIN:VEVENT
UID:201aab07-5983-4ce4-bc5d-8c7905397de2
DTSTART;TZID=UTC:20261201T180000
SEQUENCE:0
TRANSP:OPAQUE
DTEND;TZID=UTC:20261201T191500
LOCATION:https://www.ovc.ojp.gov/events/when-im-sixty-four-elder-abuse-form
 -family-violence
SUMMARY:When I’m Sixty-Four: Elder Abuse as a Form of Family Violence
CLASS:PUBLIC
DESCRIPTION:Learn more about this event: https://www.ovc.ojp.gov/events/whe
 n-im-sixty-four-elder-abuse-form-family-violence
DTSTAMP:20260422T214953Z
END:VEVENT
END:VCALENDAR