BEGIN:VCALENDAR
VERSION:2.0
PRODID:-//Office for Victims of Crime//NONSGML Event Calendar//EN
BEGIN:VEVENT
UID:8b62bb0f-1473-4032-85d1-fa52469c63e6
DTSTART;TZID=UTC:20261117T180000
SEQUENCE:0
TRANSP:OPAQUE
DTEND;TZID=UTC:20261117T191500
LOCATION:https://www.ovc.ojp.gov/events/finding-words-supporting-colleagues
 -grief-and-trauma-work
SUMMARY:Finding the Words: Supporting Colleagues in Grief and Trauma at Wor
 k
CLASS:PUBLIC
DESCRIPTION:Learn more about this event: https://www.ovc.ojp.gov/events/fin
 ding-words-supporting-colleagues-grief-and-trauma-work
DTSTAMP:20260422T215100Z
END:VEVENT
END:VCALENDAR