BEGIN:VCALENDAR
VERSION:2.0
PRODID:-//Office for Victims of Crime//NONSGML Event Calendar//EN
BEGIN:VEVENT
UID:5df7e354-a049-486a-b8f9-cfc2537ddd5b
DTSTART;TZID=UTC:20260426T000000
SEQUENCE:0
TRANSP:OPAQUE
DTEND;TZID=UTC:20260426T030000
LOCATION:https://www.ovc.ojp.gov/events/candlelight-vigil-and-names-dedicat
 ion-ceremony
SUMMARY:Candlelight Vigil and Names Dedication Ceremony
CLASS:PUBLIC
DESCRIPTION:Learn more about this event: https://www.ovc.ojp.gov/events/can
 dlelight-vigil-and-names-dedication-ceremony
DTSTAMP:20260416T195951Z
END:VEVENT
END:VCALENDAR