BEGIN:VCALENDAR
VERSION:2.0
PRODID:-//Office for Victims of Crime//NONSGML Event Calendar//EN
BEGIN:VEVENT
UID:7d6c56a9-95df-42f7-b018-e4d5eecb4554
DTSTART;TZID=UTC:20260424T220000
SEQUENCE:0
TRANSP:OPAQUE
DTEND;TZID=UTC:20260424T230000
LOCATION:https://www.ovc.ojp.gov/events/rice-paper-memorial
SUMMARY:Rice Paper Memorial
CLASS:PUBLIC
DESCRIPTION:Learn more about this event: https://www.ovc.ojp.gov/events/ric
 e-paper-memorial
DTSTAMP:20260422T220223Z
END:VEVENT
END:VCALENDAR